BEGIN:VCALENDAR
VERSION:2.0
PRODID:-//Hope for Georgia Moms - ECPv6.15.20//NONSGML v1.0//EN
CALSCALE:GREGORIAN
METHOD:PUBLISH
X-ORIGINAL-URL:https://www.hopeforgeorgiamoms.org
X-WR-CALDESC:Events for Hope for Georgia Moms
REFRESH-INTERVAL;VALUE=DURATION:PT1H
X-Robots-Tag:noindex
X-PUBLISHED-TTL:PT1H
BEGIN:VTIMEZONE
TZID:America/New_York
BEGIN:DAYLIGHT
TZOFFSETFROM:-0500
TZOFFSETTO:-0400
TZNAME:EDT
DTSTART:20230312T070000
END:DAYLIGHT
BEGIN:STANDARD
TZOFFSETFROM:-0400
TZOFFSETTO:-0500
TZNAME:EST
DTSTART:20231105T060000
END:STANDARD
BEGIN:DAYLIGHT
TZOFFSETFROM:-0500
TZOFFSETTO:-0400
TZNAME:EDT
DTSTART:20240310T070000
END:DAYLIGHT
BEGIN:STANDARD
TZOFFSETFROM:-0400
TZOFFSETTO:-0500
TZNAME:EST
DTSTART:20241103T060000
END:STANDARD
BEGIN:DAYLIGHT
TZOFFSETFROM:-0500
TZOFFSETTO:-0400
TZNAME:EDT
DTSTART:20250309T070000
END:DAYLIGHT
BEGIN:STANDARD
TZOFFSETFROM:-0400
TZOFFSETTO:-0500
TZNAME:EST
DTSTART:20251102T060000
END:STANDARD
END:VTIMEZONE
BEGIN:VEVENT
DTSTART;TZID=America/New_York:20241022T070000
DTEND;TZID=America/New_York:20241022T170000
DTSTAMP:20260423T123525
CREATED:20241008T204025Z
LAST-MODIFIED:20241008T204025Z
UID:10000025-1729580400-1729616400@www.hopeforgeorgiamoms.org
SUMMARY:NotOnMyWatch Conference
DESCRIPTION:Welcome to the inaugural #NOMW Conference\, where birthworkers come together to learn\, share\, and grow. Attendees will leave inspired and committed to facilitating joy for the birthing community. As the old adage says\, a rising tide lifts all boats\, therefore\, clinicians\, providers and partners will also experience joy in their work. \n  \nRegister
URL:https://www.hopeforgeorgiamoms.org/event/notonmywatch-conference/
LOCATION:Kimberly-Clark Professional Conference Center\, 1400 Holcomb Bridge Rd Building 600\, Roswell\, GA\, 30076\, United States
ATTACH;FMTTYPE=image/png:https://www.hopeforgeorgiamoms.org/wp-content/uploads/2024/10/NotOnMyWatch-Conference.png
END:VEVENT
END:VCALENDAR