BEGIN:VCALENDAR
VERSION:2.0
PRODID:-//Hope for Georgia Moms - ECPv6.15.20//NONSGML v1.0//EN
CALSCALE:GREGORIAN
METHOD:PUBLISH
X-ORIGINAL-URL:https://www.hopeforgeorgiamoms.org
X-WR-CALDESC:Events for Hope for Georgia Moms
REFRESH-INTERVAL;VALUE=DURATION:PT1H
X-Robots-Tag:noindex
X-PUBLISHED-TTL:PT1H
BEGIN:VTIMEZONE
TZID:America/New_York
BEGIN:DAYLIGHT
TZOFFSETFROM:-0500
TZOFFSETTO:-0400
TZNAME:EDT
DTSTART:20230312T070000
END:DAYLIGHT
BEGIN:STANDARD
TZOFFSETFROM:-0400
TZOFFSETTO:-0500
TZNAME:EST
DTSTART:20231105T060000
END:STANDARD
BEGIN:DAYLIGHT
TZOFFSETFROM:-0500
TZOFFSETTO:-0400
TZNAME:EDT
DTSTART:20240310T070000
END:DAYLIGHT
BEGIN:STANDARD
TZOFFSETFROM:-0400
TZOFFSETTO:-0500
TZNAME:EST
DTSTART:20241103T060000
END:STANDARD
BEGIN:DAYLIGHT
TZOFFSETFROM:-0500
TZOFFSETTO:-0400
TZNAME:EDT
DTSTART:20250309T070000
END:DAYLIGHT
BEGIN:STANDARD
TZOFFSETFROM:-0400
TZOFFSETTO:-0500
TZNAME:EST
DTSTART:20251102T060000
END:STANDARD
END:VTIMEZONE
BEGIN:VEVENT
DTSTART;TZID=America/New_York:20240303T140000
DTEND;TZID=America/New_York:20240303T170000
DTSTAMP:20260423T092608
CREATED:20240219T201606Z
LAST-MODIFIED:20240219T202308Z
UID:10000007-1709474400-1709485200@www.hopeforgeorgiamoms.org
SUMMARY:The Bump & Beyond Maternal Health Fair
DESCRIPTION:Hey Expecting Moms\, Super-Dads\, and Young Families with Medicaid or PeachCare for Kids® — Join us for a FREE event with local organizations sharing giveaways\, resources\, and information to keep you and your baby healthy.  \nEvent Flyer
URL:https://www.hopeforgeorgiamoms.org/event/the-bump-beyond-maternal-health-fair/
LOCATION:Albany Civic Center\, 100 W Oglethorpe Blvd\, Albany\, Georgia\, 31701\, United States
END:VEVENT
END:VCALENDAR