BEGIN:VCALENDAR
VERSION:2.0
PRODID:-//Hope for Georgia Moms - ECPv6.15.20//NONSGML v1.0//EN
CALSCALE:GREGORIAN
METHOD:PUBLISH
X-ORIGINAL-URL:https://www.hopeforgeorgiamoms.org
X-WR-CALDESC:Events for Hope for Georgia Moms
REFRESH-INTERVAL;VALUE=DURATION:PT1H
X-Robots-Tag:noindex
X-PUBLISHED-TTL:PT1H
BEGIN:VTIMEZONE
TZID:America/New_York
BEGIN:DAYLIGHT
TZOFFSETFROM:-0500
TZOFFSETTO:-0400
TZNAME:EDT
DTSTART:20230312T070000
END:DAYLIGHT
BEGIN:STANDARD
TZOFFSETFROM:-0400
TZOFFSETTO:-0500
TZNAME:EST
DTSTART:20231105T060000
END:STANDARD
BEGIN:DAYLIGHT
TZOFFSETFROM:-0500
TZOFFSETTO:-0400
TZNAME:EDT
DTSTART:20240310T070000
END:DAYLIGHT
BEGIN:STANDARD
TZOFFSETFROM:-0400
TZOFFSETTO:-0500
TZNAME:EST
DTSTART:20241103T060000
END:STANDARD
BEGIN:DAYLIGHT
TZOFFSETFROM:-0500
TZOFFSETTO:-0400
TZNAME:EDT
DTSTART:20250309T070000
END:DAYLIGHT
BEGIN:STANDARD
TZOFFSETFROM:-0400
TZOFFSETTO:-0500
TZNAME:EST
DTSTART:20251102T060000
END:STANDARD
END:VTIMEZONE
BEGIN:VEVENT
DTSTART;TZID=America/New_York:20240911T073000
DTEND;TZID=America/New_York:20240911T163000
DTSTAMP:20260421T170402
CREATED:20240710T184353Z
LAST-MODIFIED:20240710T184353Z
UID:10000020-1726039800-1726072200@www.hopeforgeorgiamoms.org
SUMMARY:Georgia’s 2024 Conference on Child Abuse and Neglect From Prevention to Intervention
DESCRIPTION:Wednesday\, September 11 at the Hilton Peachtree City Conference Center \nJoin professionals from across the state at the Hilton Peachtree City Conference Center\, for innovative workshops regarding prevention\, intervention\, and the treatment of children and families impacted by child maltreatment. This conference is proudly hosted by PCA Georgia and the Stephanie V. Blank Center for Safe and Healthy Children at Children’s Healthcare of Atlanta\, and the Georgia Center for Child Advocacy. \nClick here to learn more and to register.
URL:https://www.hopeforgeorgiamoms.org/event/georgias-2024-conference-on-child-abuse-and-neglect-from-prevention-to-intervention/
LOCATION:Hilton Peachtree City Atlanta Hotel & Conference Center\, 2443 Highway 54 West\, Peachtree City\, GA\, 30269\, United States
END:VEVENT
END:VCALENDAR