BEGIN:VCALENDAR
VERSION:2.0
PRODID:-//Hope for Georgia Moms - ECPv6.15.20//NONSGML v1.0//EN
CALSCALE:GREGORIAN
METHOD:PUBLISH
X-WR-CALNAME:Hope for Georgia Moms
X-ORIGINAL-URL:https://www.hopeforgeorgiamoms.org
X-WR-CALDESC:Events for Hope for Georgia Moms
REFRESH-INTERVAL;VALUE=DURATION:PT1H
X-Robots-Tag:noindex
X-PUBLISHED-TTL:PT1H
BEGIN:VTIMEZONE
TZID:America/New_York
BEGIN:DAYLIGHT
TZOFFSETFROM:-0500
TZOFFSETTO:-0400
TZNAME:EDT
DTSTART:20230312T070000
END:DAYLIGHT
BEGIN:STANDARD
TZOFFSETFROM:-0400
TZOFFSETTO:-0500
TZNAME:EST
DTSTART:20231105T060000
END:STANDARD
BEGIN:DAYLIGHT
TZOFFSETFROM:-0500
TZOFFSETTO:-0400
TZNAME:EDT
DTSTART:20240310T070000
END:DAYLIGHT
BEGIN:STANDARD
TZOFFSETFROM:-0400
TZOFFSETTO:-0500
TZNAME:EST
DTSTART:20241103T060000
END:STANDARD
BEGIN:DAYLIGHT
TZOFFSETFROM:-0500
TZOFFSETTO:-0400
TZNAME:EDT
DTSTART:20250309T070000
END:DAYLIGHT
BEGIN:STANDARD
TZOFFSETFROM:-0400
TZOFFSETTO:-0500
TZNAME:EST
DTSTART:20251102T060000
END:STANDARD
END:VTIMEZONE
BEGIN:VEVENT
DTSTART;TZID=America/New_York:20241025T100000
DTEND;TZID=America/New_York:20241025T150000
DTSTAMP:20260421T101612
CREATED:20241008T203046Z
LAST-MODIFIED:20241008T203247Z
UID:10000024-1729850400-1729868400@www.hopeforgeorgiamoms.org
SUMMARY:Maternal and Child Health Policy Workshop
DESCRIPTION:Registrants will take part in a Policy Workshop designed to prepare students to advocate for policy solutions to improve maternal and child health outcomes in Georgia. The workshop was developed in collaboration with Emory’s MCH Center of Excellence\, Morehouse School of Medicine’s Center for Maternal Health Equity\, Healthy Mothers Healthy Babies Coalition of Georgia\, Georgia State University and Georgia Watch.\n\nThe workshop will guide participants through the process of developing a policy proposal\, with the help of subject experts from community organizations.  At the end of the workshop\, groups will present their policy proposal to an expert panel for input and feedback.  All skill and knowledge levels are welcome.\n\nMeet other students in Atlanta and be prepared for an inspiring day.   Please contact margaret.master@emory.edu with any questions.\n\nRegister
URL:https://www.hopeforgeorgiamoms.org/event/maternal-and-child-health-policy-workshop/
END:VEVENT
END:VCALENDAR