BEGIN:VCALENDAR
VERSION:2.0
PRODID:-//Hope for Georgia Moms - ECPv6.15.20//NONSGML v1.0//EN
CALSCALE:GREGORIAN
METHOD:PUBLISH
X-ORIGINAL-URL:https://www.hopeforgeorgiamoms.org
X-WR-CALDESC:Events for Hope for Georgia Moms
REFRESH-INTERVAL;VALUE=DURATION:PT1H
X-Robots-Tag:noindex
X-PUBLISHED-TTL:PT1H
BEGIN:VTIMEZONE
TZID:America/New_York
BEGIN:DAYLIGHT
TZOFFSETFROM:-0500
TZOFFSETTO:-0400
TZNAME:EDT
DTSTART:20230312T070000
END:DAYLIGHT
BEGIN:STANDARD
TZOFFSETFROM:-0400
TZOFFSETTO:-0500
TZNAME:EST
DTSTART:20231105T060000
END:STANDARD
BEGIN:DAYLIGHT
TZOFFSETFROM:-0500
TZOFFSETTO:-0400
TZNAME:EDT
DTSTART:20240310T070000
END:DAYLIGHT
BEGIN:STANDARD
TZOFFSETFROM:-0400
TZOFFSETTO:-0500
TZNAME:EST
DTSTART:20241103T060000
END:STANDARD
BEGIN:DAYLIGHT
TZOFFSETFROM:-0500
TZOFFSETTO:-0400
TZNAME:EDT
DTSTART:20250309T070000
END:DAYLIGHT
BEGIN:STANDARD
TZOFFSETFROM:-0400
TZOFFSETTO:-0500
TZNAME:EST
DTSTART:20251102T060000
END:STANDARD
END:VTIMEZONE
BEGIN:VEVENT
DTSTART;TZID=America/New_York:20240413T080000
DTEND;TZID=America/New_York:20240413T150000
DTSTAMP:20260425T090803
CREATED:20240329T183711Z
LAST-MODIFIED:20240329T184128Z
UID:10000012-1712995200-1713020400@www.hopeforgeorgiamoms.org
SUMMARY:Black Mamas Matter Alliance 2024 Black Maternal Health Walk & Block Party
DESCRIPTION:The Black Mamas Matter Alliance\, Inc. (BMMA)\, City of Atlanta Mayor’s Office of Constituent Services (OCS)\, and 4Kira4Moms are excited to co-present the 2024 “Black Maternal Health Walk & Block Party” on Saturday\, April 13th\, from 8:00 a.m. to 3:00 p.m. Registration is required. \nEvent Website
URL:https://www.hopeforgeorgiamoms.org/event/black-mamas-matter-alliance-2024-black-maternal-health-walk-block-party/
LOCATION:Selena S. Butler Park\, 98 William Holmes Borders Senior Dr SE\, Atlanta\, GA\, 30312\, United States
ATTACH;FMTTYPE=image/png:https://www.hopeforgeorgiamoms.org/wp-content/uploads/2024/03/BMMA-WBlock-party.png
END:VEVENT
BEGIN:VEVENT
DTSTART;VALUE=DATE:20240411
DTEND;VALUE=DATE:20240418
DTSTAMP:20260425T090803
CREATED:20240329T182644Z
LAST-MODIFIED:20240329T182926Z
UID:10000011-1712793600-1713398399@www.hopeforgeorgiamoms.org
SUMMARY:Black Mamas Matter Alliance Black Maternal Health Week
DESCRIPTION:BMHW is a week-long campaign founded and led by the Black Mamas Matter Alliance​ to build awareness\, activism\, and community-building​ to amplify ​the voices\, perspectives and lived experiences of Black Mamas and birthing people. \n  \n\n\n\nThurs. 4/11\nInt’l Day of Maternal Health & Rights + Official BMHW24 Kick-off Tweetchat + Black Doula Day\n\n\nFri. 4/12\nData & Innovation Day\n\n\nSat. 4/13\nBMH Walk – Atlanta\, GA\n\n\nSun. 4/14\nAmplify Reproductive Justice\n\n\nMon. 4/15\n#FundBlackMamas: Mobilizing Capital for Black Maternal Health\n\n\nTues. 4/16\nPolicy Day\n\n\nWed. 4/17\nBMH in Your Neighborhood\n\n\n\nEvent Website 
URL:https://www.hopeforgeorgiamoms.org/event/black-mamas-matter-alliance-black-maternal-health-week/
ATTACH;FMTTYPE=image/png:https://www.hopeforgeorgiamoms.org/wp-content/uploads/2024/03/BMMA-Black-Maternal-Health-Week-2024.png
END:VEVENT
END:VCALENDAR