BEGIN:VCALENDAR
VERSION:2.0
PRODID:-//Hope for Georgia Moms - ECPv6.15.20//NONSGML v1.0//EN
CALSCALE:GREGORIAN
METHOD:PUBLISH
X-ORIGINAL-URL:https://www.hopeforgeorgiamoms.org
X-WR-CALDESC:Events for Hope for Georgia Moms
REFRESH-INTERVAL;VALUE=DURATION:PT1H
X-Robots-Tag:noindex
X-PUBLISHED-TTL:PT1H
BEGIN:VTIMEZONE
TZID:America/New_York
BEGIN:DAYLIGHT
TZOFFSETFROM:-0500
TZOFFSETTO:-0400
TZNAME:EDT
DTSTART:20230312T070000
END:DAYLIGHT
BEGIN:STANDARD
TZOFFSETFROM:-0400
TZOFFSETTO:-0500
TZNAME:EST
DTSTART:20231105T060000
END:STANDARD
BEGIN:DAYLIGHT
TZOFFSETFROM:-0500
TZOFFSETTO:-0400
TZNAME:EDT
DTSTART:20240310T070000
END:DAYLIGHT
BEGIN:STANDARD
TZOFFSETFROM:-0400
TZOFFSETTO:-0500
TZNAME:EST
DTSTART:20241103T060000
END:STANDARD
BEGIN:DAYLIGHT
TZOFFSETFROM:-0500
TZOFFSETTO:-0400
TZNAME:EDT
DTSTART:20250309T070000
END:DAYLIGHT
BEGIN:STANDARD
TZOFFSETFROM:-0400
TZOFFSETTO:-0500
TZNAME:EST
DTSTART:20251102T060000
END:STANDARD
END:VTIMEZONE
BEGIN:VEVENT
DTSTART;TZID=America/New_York:20240414T020000
DTEND;TZID=America/New_York:20240414T170000
DTSTAMP:20260425T090855
CREATED:20240409T210645Z
LAST-MODIFIED:20240409T210845Z
UID:10000016-1713060000-1713114000@www.hopeforgeorgiamoms.org
SUMMARY:Atlanta Doula Collective Family Day
DESCRIPTION:In honor of Black Maternal Health Week\, the Atlanta Doula Collective and Georgia Black Doula Network cordially invite you to Family Day In The Park at Robert Cross Park. This event focuses on the vitality and wellness of Black maternal families in Southwest Georgia. Join for on-site general health screenings\, including blood pressure and temperature checks. Engage in one-on-one Q&A sessions with Midwife Sekesa Berry. Enjoy refreshments\, games\, parenting supplies\, and more! \nRegister 
URL:https://www.hopeforgeorgiamoms.org/event/black-maternal-health-week-family-day/
LOCATION:Robert Cross Park\, 3500 Martin Luther King Dr.\, Albany\, GA\, 31701\, United States
ATTACH;FMTTYPE=image/jpeg:https://www.hopeforgeorgiamoms.org/wp-content/uploads/2024/04/Atlanta-Doula-Collective-Black-Maternal-Health-Week-Family-Day.jpg
END:VEVENT
END:VCALENDAR