BEGIN:VCALENDAR
VERSION:2.0
PRODID:-//Hope for Georgia Moms - ECPv6.15.20//NONSGML v1.0//EN
CALSCALE:GREGORIAN
METHOD:PUBLISH
X-WR-CALNAME:Hope for Georgia Moms
X-ORIGINAL-URL:https://www.hopeforgeorgiamoms.org
X-WR-CALDESC:Events for Hope for Georgia Moms
REFRESH-INTERVAL;VALUE=DURATION:PT1H
X-Robots-Tag:noindex
X-PUBLISHED-TTL:PT1H
BEGIN:VTIMEZONE
TZID:America/New_York
BEGIN:DAYLIGHT
TZOFFSETFROM:-0500
TZOFFSETTO:-0400
TZNAME:EDT
DTSTART:20230312T070000
END:DAYLIGHT
BEGIN:STANDARD
TZOFFSETFROM:-0400
TZOFFSETTO:-0500
TZNAME:EST
DTSTART:20231105T060000
END:STANDARD
BEGIN:DAYLIGHT
TZOFFSETFROM:-0500
TZOFFSETTO:-0400
TZNAME:EDT
DTSTART:20240310T070000
END:DAYLIGHT
BEGIN:STANDARD
TZOFFSETFROM:-0400
TZOFFSETTO:-0500
TZNAME:EST
DTSTART:20241103T060000
END:STANDARD
BEGIN:DAYLIGHT
TZOFFSETFROM:-0500
TZOFFSETTO:-0400
TZNAME:EDT
DTSTART:20250309T070000
END:DAYLIGHT
BEGIN:STANDARD
TZOFFSETFROM:-0400
TZOFFSETTO:-0500
TZNAME:EST
DTSTART:20251102T060000
END:STANDARD
END:VTIMEZONE
BEGIN:VEVENT
DTSTART;TZID=America/New_York:20240414T133000
DTEND;TZID=America/New_York:20240414T160000
DTSTAMP:20260421T100616
CREATED:20240329T174412Z
LAST-MODIFIED:20240329T175143Z
UID:10000010-1713101400-1713110400@www.hopeforgeorgiamoms.org
SUMMARY:Maternal Monologues: Parental Perspectives- Let's Spill the Tea
DESCRIPTION:Join for an afternoon of candid storytelling\, where women\, partners\, and supporters share their real-life experiences navigating the journey of birthing and maternal health. \nPlease click here to join the guestlist.
URL:https://www.hopeforgeorgiamoms.org/event/center-for-black-womens-wellness-maternal-monologues-parental-perspectives-lets-spill-the-tea/
LOCATION:Indie Studios\, 190 Ottley Dr NE\, Atlanta\, GA\, 30324\, United States
ATTACH;FMTTYPE=image/png:https://www.hopeforgeorgiamoms.org/wp-content/uploads/2024/03/CBWW-Maternal-Monologues.png
END:VEVENT
END:VCALENDAR