BEGIN:VCALENDAR
VERSION:2.0
PRODID:-//Hope for Georgia Moms - ECPv6.15.20//NONSGML v1.0//EN
CALSCALE:GREGORIAN
METHOD:PUBLISH
X-ORIGINAL-URL:https://www.hopeforgeorgiamoms.org
X-WR-CALDESC:Events for Hope for Georgia Moms
REFRESH-INTERVAL;VALUE=DURATION:PT1H
X-Robots-Tag:noindex
X-PUBLISHED-TTL:PT1H
BEGIN:VTIMEZONE
TZID:America/New_York
BEGIN:DAYLIGHT
TZOFFSETFROM:-0500
TZOFFSETTO:-0400
TZNAME:EDT
DTSTART:20250309T070000
END:DAYLIGHT
BEGIN:STANDARD
TZOFFSETFROM:-0400
TZOFFSETTO:-0500
TZNAME:EST
DTSTART:20251102T060000
END:STANDARD
BEGIN:DAYLIGHT
TZOFFSETFROM:-0500
TZOFFSETTO:-0400
TZNAME:EDT
DTSTART:20260308T070000
END:DAYLIGHT
BEGIN:STANDARD
TZOFFSETFROM:-0400
TZOFFSETTO:-0500
TZNAME:EST
DTSTART:20261101T060000
END:STANDARD
BEGIN:DAYLIGHT
TZOFFSETFROM:-0500
TZOFFSETTO:-0400
TZNAME:EDT
DTSTART:20270314T070000
END:DAYLIGHT
BEGIN:STANDARD
TZOFFSETFROM:-0400
TZOFFSETTO:-0500
TZNAME:EST
DTSTART:20271107T060000
END:STANDARD
END:VTIMEZONE
BEGIN:VEVENT
DTSTART;TZID=America/New_York:20260412T110000
DTEND;TZID=America/New_York:20260412T200000
DTSTAMP:20260421T143044
CREATED:20260105T151614Z
LAST-MODIFIED:20260105T151705Z
UID:10000049-1775991600-1776024000@www.hopeforgeorgiamoms.org
SUMMARY:Motherhood Healing Festival
DESCRIPTION:The Motherhood Healing Festival is a community wellness gathering centering pregnant and postpartum mothers. This festival offers a sacred space where mothers can connect\, learn\, and replenish their mind\, body\, and spirit. \nParticipants will engage in workshops and mini-sessions led by certified birth doulas\, prenatal yoga and breathwork instructors\, and mental health professionals. Attendees will have opportunities to explore hands-on educational workshops about maternal wellness\, traditional healing practices\, postpartum care\, and navigating pregnancy while building community and sisterhood with other mothers\, doulas\, and birth workers. \nThe day will also include a delicious lunch and refreshments\, holistic wellness activities such as gentle movement\, guided meditation\, and resources for emotional support\, along with access to local maternal health organizations serving rural Georgia. Whether you are expecting\, newly postpartum\, a birth worker or seeking support and connection\, the Motherhood Healing Festival provides a space to learn\, heal\, and thrive! \nLocation: Sanoah Springs 156 School St\, Williamson\, GA 30292 \n2026-MHF-Official-Flyer.pdf
URL:https://www.hopeforgeorgiamoms.org/event/motherhood-healing-festival/
ATTACH;FMTTYPE=image/png:https://www.hopeforgeorgiamoms.org/wp-content/uploads/2026/01/2026-MHF-Official-Flyer-1.png
END:VEVENT
END:VCALENDAR