BEGIN:VCALENDAR
VERSION:2.0
PRODID:-//Hope for Georgia Moms - ECPv6.15.20//NONSGML v1.0//EN
CALSCALE:GREGORIAN
METHOD:PUBLISH
X-WR-CALNAME:Hope for Georgia Moms
X-ORIGINAL-URL:https://www.hopeforgeorgiamoms.org
X-WR-CALDESC:Events for Hope for Georgia Moms
REFRESH-INTERVAL;VALUE=DURATION:PT1H
X-Robots-Tag:noindex
X-PUBLISHED-TTL:PT1H
BEGIN:VTIMEZONE
TZID:America/New_York
BEGIN:DAYLIGHT
TZOFFSETFROM:-0500
TZOFFSETTO:-0400
TZNAME:EDT
DTSTART:20250309T070000
END:DAYLIGHT
BEGIN:STANDARD
TZOFFSETFROM:-0400
TZOFFSETTO:-0500
TZNAME:EST
DTSTART:20251102T060000
END:STANDARD
BEGIN:DAYLIGHT
TZOFFSETFROM:-0500
TZOFFSETTO:-0400
TZNAME:EDT
DTSTART:20260308T070000
END:DAYLIGHT
BEGIN:STANDARD
TZOFFSETFROM:-0400
TZOFFSETTO:-0500
TZNAME:EST
DTSTART:20261101T060000
END:STANDARD
BEGIN:DAYLIGHT
TZOFFSETFROM:-0500
TZOFFSETTO:-0400
TZNAME:EDT
DTSTART:20270314T070000
END:DAYLIGHT
BEGIN:STANDARD
TZOFFSETFROM:-0400
TZOFFSETTO:-0500
TZNAME:EST
DTSTART:20271107T060000
END:STANDARD
END:VTIMEZONE
BEGIN:VEVENT
DTSTART;TZID=America/New_York:20260321T090000
DTEND;TZID=America/New_York:20260321T150000
DTSTAMP:20260423T041113
CREATED:20260223T180803Z
LAST-MODIFIED:20260223T180803Z
UID:10000050-1774083600-1774105200@www.hopeforgeorgiamoms.org
SUMMARY:Inaugural Black Maternal Health Conference
DESCRIPTION:Join us for the Inaugural Black Maternal Health Conference on March 21\, 2026\, at Fort Valley State University. This free\, community-focused event will bring together speakers\, panelists\, and vendors to address critical maternal health challenges\, reduce disparities\, and strengthen support for Black mothers and families across Georgia. \nHOPE for Georgia Moms is proud to serve as a sponsor\, supporting efforts to improve outcomes\, expand access to care\, and advance maternal health equity statewide. Registration is free\, but space is limited.
URL:https://www.hopeforgeorgiamoms.org/event/inaugural-black-maternal-health-conference/
END:VEVENT
END:VCALENDAR