BEGIN:VCALENDAR
VERSION:2.0
PRODID:-//Hope for Georgia Moms - ECPv6.15.20//NONSGML v1.0//EN
CALSCALE:GREGORIAN
METHOD:PUBLISH
X-WR-CALNAME:Hope for Georgia Moms
X-ORIGINAL-URL:https://www.hopeforgeorgiamoms.org
X-WR-CALDESC:Events for Hope for Georgia Moms
REFRESH-INTERVAL;VALUE=DURATION:PT1H
X-Robots-Tag:noindex
X-PUBLISHED-TTL:PT1H
BEGIN:VTIMEZONE
TZID:America/New_York
BEGIN:DAYLIGHT
TZOFFSETFROM:-0500
TZOFFSETTO:-0400
TZNAME:EDT
DTSTART:20240310T070000
END:DAYLIGHT
BEGIN:STANDARD
TZOFFSETFROM:-0400
TZOFFSETTO:-0500
TZNAME:EST
DTSTART:20241103T060000
END:STANDARD
BEGIN:DAYLIGHT
TZOFFSETFROM:-0500
TZOFFSETTO:-0400
TZNAME:EDT
DTSTART:20250309T070000
END:DAYLIGHT
BEGIN:STANDARD
TZOFFSETFROM:-0400
TZOFFSETTO:-0500
TZNAME:EST
DTSTART:20251102T060000
END:STANDARD
BEGIN:DAYLIGHT
TZOFFSETFROM:-0500
TZOFFSETTO:-0400
TZNAME:EDT
DTSTART:20260308T070000
END:DAYLIGHT
BEGIN:STANDARD
TZOFFSETFROM:-0400
TZOFFSETTO:-0500
TZNAME:EST
DTSTART:20261101T060000
END:STANDARD
END:VTIMEZONE
BEGIN:VEVENT
DTSTART;TZID=America/New_York:20251209T080000
DTEND;TZID=America/New_York:20251209T170000
DTSTAMP:20260421T125329
CREATED:20250224T163740Z
LAST-MODIFIED:20250224T163740Z
UID:10000041-1765267200-1765299600@www.hopeforgeorgiamoms.org
SUMMARY:Obstetric Patient Safety (OPS): OB Emergencies Workshop 3rd Edition
DESCRIPTION:Obstetric Patient Safety (OPS): OB Emergencies Workshop 3rd Edition \nDespite efforts from many collaborative agencies and professional organizations\, the Maternal Mortality rate in the US continues to remain high. The OPS Workshop is designed to help clinicians identify\, assess\, and manage the patients with an Obstetric emergency through simulation and debriefing \nLearning Outcomes \n• Identify key factors that place the patient at higher risk for an obstetric emergency. \n• Demonstrate effective management for pregnant or postpartum person during an obstetric emergency. \n• Role-play with a multidisciplinary team using simulation-based cognitive\, behavioral\, and technical learning strategies to practice management of a patient experiencing an obstetric emergency. \nWorkshop Dates for 2025 \nTime: 8:00am -5:00pm \n• February 18\n• March 18\n• April 14\n• May 13\n• June 10\n• July 24\n• August 12\n• September 16\n• October 14\n• November 11\n• December 9 \nMore information here: OPS Hope for GA Moms Flier_Workshop Dates 2025 \nMaterial and Registration Fee \nPAID in part by HOPE for Georgia Moms and NGHS Center for Simulation and Innovation \nParticipant Materials \n\nMaterials include the prerequisite course\, participant handouts\, and Workshop resources. Nursing contact hours or CME: 10.75 (0.75 pharmacy)\n\nExpires: May 31\, 2025\n\n\nNOTE: Successful completion of the prerequisite course is required prior to attending the live portion of the Workshop.\n\nWorkshop Location \nNGHS Center for Simulation and Innovation \n675 White Sulphur Road \nGainesville\, GA 30501 \nSubmit Request to attend to: Tasha Murchison at tasha.murchison@nghs.com \nAdditional information: We encourage hospitals across Georgia to attend and send members of the Obstetric and Emergency Department. Reach out for any additional questions.
URL:https://www.hopeforgeorgiamoms.org/event/obstetric-patient-safety-ops-ob-emergencies-workshop-3rd-edition-10/
LOCATION:NGHS Center for Simulation and Innovation\, 675 White Sulphur Road\, Gainesville\, GA\, 30501\, United States
ATTACH;FMTTYPE=application/pdf:https://www.hopeforgeorgiamoms.org/wp-content/uploads/2025/02/OPS-Hope-for-GA-Moms-Flier_Workshop-Dates-2025-1.pdf
ORGANIZER;CN="NGHS Center for Simulation and Innovation":MAILTO:tasha.murchison@nghs.com
END:VEVENT
END:VCALENDAR